0.0500000000
0.0000000000
0.0000000000
-0.0500000000
378000.0250000000
2941999.9750000001
