0.1000000000
0.0000000000
0.0000000000
-0.1000000000
377000.0500000000
2954999.9500000002
