0.0500000000
0.0000000000
0.0000000000
-0.0500000000
377000.0250000000
2938999.9750000001
