0.1000000000
0.0000000000
0.0000000000
-0.1000000000
376000.0500000000
2956999.9500000002
