0.0500000000
0.0000000000
0.0000000000
-0.0500000000
376000.0250000000
2945999.9750000001
