0.1000000000
0.0000000000
0.0000000000
-0.1000000000
375000.0500000000
2960999.9500000002
