0.0500000000
0.0000000000
0.0000000000
-0.0500000000
375000.0250000000
2951999.9750000001
