0.1000000000
0.0000000000
0.0000000000
-0.1000000000
374000.0500000000
2965999.9500000002
