0.1000000000
0.0000000000
0.0000000000
-0.1000000000
373000.0500000000
2967999.9500000002
