0.1000000000
0.0000000000
0.0000000000
-0.1000000000
372000.0500000000
2969999.9500000002
