0.0500000000
0.0000000000
0.0000000000
-0.0500000000
372000.0250000000
2967999.9750000001
