0.1000000000
0.0000000000
0.0000000000
-0.1000000000
371000.0500000000
2970999.9500000002
