0.1000000000
0.0000000000
0.0000000000
-0.1000000000
370000.0500000000
2972999.9500000002
