0.1000000000
0.0000000000
0.0000000000
-0.1000000000
369000.0500000000
2974999.9500000002
