0.0500000000
0.0000000000
0.0000000000
-0.0500000000
369000.0250000000
2973999.9750000001
