0.1000000000
0.0000000000
0.0000000000
-0.1000000000
368000.0500000000
2976999.9500000002
