0.1000000000
0.0000000000
0.0000000000
-0.1000000000
366000.0500000000
2979999.9500000002
