0.1000000000
0.0000000000
0.0000000000
-0.1000000000
365000.0500000000
2981999.9500000002
