0.0500000000
0.0000000000
0.0000000000
-0.0500000000
365000.0250000000
2979999.9750000001
