0.1000000000
0.0000000000
0.0000000000
-0.1000000000
364000.0500000000
2982999.9500000002
