0.1000000000
0.0000000000
0.0000000000
-0.1000000000
363000.0500000000
2984999.9500000002
