0.1000000000
0.0000000000
0.0000000000
-0.1000000000
362000.0500000000
2987999.9500000002
