0.1000000000
0.0000000000
0.0000000000
-0.1000000000
360000.0500000000
2990999.9500000002
