0.0500000000
0.0000000000
0.0000000000
-0.0500000000
360000.0250000000
2984999.9750000001
