0.1000000000
0.0000000000
0.0000000000
-0.1000000000
359000.0500000000
2992999.9500000002
