0.1000000000
0.0000000000
0.0000000000
-0.1000000000
358000.0500000000
2991999.9500000002
