0.1000000000
0.0000000000
0.0000000000
-0.1000000000
357000.0500000000
2995999.9500000002
