0.1000000000
0.0000000000
0.0000000000
-0.1000000000
356000.0500000000
2996999.9500000002
