0.1000000000
0.0000000000
0.0000000000
-0.1000000000
355000.0500000000
2994999.9500000002
