0.0500000000
0.0000000000
0.0000000000
-0.0500000000
352000.0250000000
2999999.9750000001
