0.0500000000
0.0000000000
0.0000000000
-0.0500000000
351000.0250000000
2998999.9750000001
