<VRTDataset rasterXSize="204040" rasterYSize="252040"> <SRS dataAxisToSRSAxisMapping="1,2">PROJCS["NAD83(2011) / UTM zone 15N",GEOGCS["NAD83(2011)",DATUM["NAD83_National_Spatial_Reference_System_2011",SPHEROID["GRS 1980",6378137,298.257222101,AUTHORITY["EPSG","7019"]],AUTHORITY["EPSG","1116"]],PRIMEM["Greenwich",0,AUTHORITY["EPSG","8901"]],UNIT["degree",0.0174532925199433,AUTHORITY["EPSG","9122"]],AUTHORITY["EPSG","6318"]],PROJECTION["Transverse_Mercator"],PARAMETER["latitude_of_origin",0],PARAMETER["central_meridian",-93],PARAMETER["scale_factor",0.9996],PARAMETER["false_easting",500000],PARAMETER["false_northing",0],UNIT["metre",1,AUTHORITY["EPSG","9001"]],AXIS["Easting",EAST],AXIS["Northing",NORTH],AUTHORITY["EPSG","6344"]]</SRS> <GeoTransform> 3.8699500000000000e+05, 2.5000000000000000e-01, 0.0000000000000000e+00, 3.3360050000000000e+06, 0.0000000000000000e+00, -2.5000000000000000e-01</GeoTransform> <VRTRasterBand dataType="Byte" band="1"> <ColorInterp>Red</ColorInterp> <SimpleSource> <SourceFilename relativeToVRT="1">./387000e3330000n.tif</SourceFilename> <SourceBand>1</SourceBand> <SourceProperties RasterXSize="12040" RasterYSize="12040" DataType="Byte" BlockXSize="512" BlockYSize="512" /> <SrcRect xOff="0" yOff="0" xSize="12040" ySize="12040" /> <DstRect xOff="0" yOff="24000" xSize="12040" ySize="12040" /> </SimpleSource> <SimpleSource> <SourceFilename relativeToVRT="1">./387000e3333000n.tif</SourceFilename> <SourceBand>1</SourceBand> <SourceProperties RasterXSize="12040" RasterYSize="12040" DataType="Byte" BlockXSize="512" BlockYSize="512" /> <SrcRect xOff="0" yOff="0" xSize="12040" ySize="12040" /> <DstRect xOff="0" yOff="12000" xSize="12040" ySize="12040" /> </SimpleSource> <SimpleSource> <SourceFilename relativeToVRT="1">./390000e3327000n.tif</SourceFilename> <SourceBand>1</SourceBand> <SourceProperties RasterXSize="12040" RasterYSize="12040" DataType="Byte" BlockXSize="512" BlockYSize="512" /> <SrcRect xOff="0" yOff="0" xSize="12040" ySize="12040" /> <DstRect xOff="12000" yOff="36000" xSize="12040" ySize="12040" /> </SimpleSource> <SimpleSource> <SourceFilename relativeToVRT="1">./390000e3330000n.tif</SourceFilename> <SourceBand>1</SourceBand> <SourceProperties RasterXSize="12040" RasterYSize="12040" DataType="Byte" BlockXSize="512" BlockYSize="512" /> <SrcRect xOff="0" yOff="0" xSize="12040" ySize="12040" /> <DstRect xOff="12000" yOff="24000" xSize="12040" ySize="12040" /> </SimpleSource> <SimpleSource> <SourceFilename relativeToVRT="1">./390000e3333000n.tif</SourceFilename> <SourceBand>1</SourceBand> <SourceProperties RasterXSize="12040" RasterYSize="12040" DataType="Byte" BlockXSize="512" BlockYSize="512" /> <SrcRect xOff="0" yOff="0" xSize="12040" ySize="12040" /> <DstRect xOff="12000" yOff="12000" xSize="12040" ySize="12040" /> </SimpleSource> <SimpleSource> <SourceFilename relativeToVRT="1">./390000e3336000n.tif</SourceFilename> <SourceBand>1</SourceBand> <SourceProperties RasterXSize="12040" RasterYSize="12040" DataType="Byte" BlockXSize="512" BlockYSize="512" /> <SrcRect xOff="0" yOff="0" xSize="12040" ySize="12040" /> <DstRect xOff="12000" yOff="0" xSize="12040" ySize="12040" /> </SimpleSource> <SimpleSource> <SourceFilename relativeToVRT="1">./393000e3327000n.tif</SourceFilename> <SourceBand>1</SourceBand> <SourceProperties RasterXSize="12040" RasterYSize="12040" DataType="Byte" BlockXSize="512" BlockYSize="512" /> <SrcRect xOff="0" yOff="0" xSize="12040" ySize="12040" /> <DstRect xOff="24000" yOff="36000" xSize="12040" ySize="12040" /> </SimpleSource> <SimpleSource> <SourceFilename relativeToVRT="1">./393000e3330000n.tif</SourceFilename> <SourceBand>1</SourceBand> <SourceProperties RasterXSize="12040" RasterYSize="12040" DataType="Byte" BlockXSize="512" BlockYSize="512" /> <SrcRect xOff="0" yOff="0" xSize="12040" ySize="12040" /> <DstRect xOff="24000" yOff="24000" xSize="12040" ySize="12040" /> </SimpleSource> <SimpleSource> <SourceFilename relativeToVRT="1">./393000e3333000n.tif</SourceFilename> <SourceBand>1</SourceBand> <SourceProperties RasterXSize="12040" RasterYSize="12040" DataType="Byte" BlockXSize="512" BlockYSize="512" /> <SrcRect xOff="0" yOff="0" xSize="12040" ySize="12040" /> <DstRect xOff="24000" yOff="12000" xSize="12040" ySize="12040" /> </SimpleSource> <SimpleSource> <SourceFilename relativeToVRT="1">./393000e3336000n.tif</SourceFilename> <SourceBand>1</SourceBand> <SourceProperties RasterXSize="12040" RasterYSize="12040" DataType="Byte" BlockXSize="512" BlockYSize="512" /> <SrcRect xOff="0" yOff="0" xSize="12040" ySize="12040" /> <DstRect xOff="24000" yOff="0" xSize="12040" ySize="12040" /> </SimpleSource> <SimpleSource> <SourceFilename relativeToVRT="1">./396000e3324000n.tif</SourceFilename> <SourceBand>1</SourceBand> <SourceProperties RasterXSize="12040" RasterYSize="12040" DataType="Byte" BlockXSize="512" BlockYSize="512" /> <SrcRect xOff="0" yOff="0" xSize="12040" ySize="12040" /> <DstRect xOff="36000" yOff="48000" xSize="12040" ySize="12040" /> </SimpleSource> <SimpleSource> <SourceFilename relativeToVRT="1">./396000e3327000n.tif</SourceFilename> <SourceBand>1</SourceBand> <SourceProperties RasterXSize="12040" RasterYSize="12040" DataType="Byte" BlockXSize="512" BlockYSize="512" /> <SrcRect xOff="0" yOff="0" xSize="12040" ySize="12040" /> <DstRect xOff="36000" yOff="36000" xSize="12040" ySize="12040" /> </SimpleSource> <SimpleSource> <SourceFilename relativeToVRT="1">./396000e3330000n.tif</SourceFilename> <SourceBand>1</SourceBand> <SourceProperties RasterXSize="12040" RasterYSize="12040" DataType="Byte" BlockXSize="512" BlockYSize="512" /> <SrcRect xOff="0" yOff="0" xSize="12040" ySize="12040" /> <DstRect xOff="36000" yOff="24000" xSize="12040" ySize="12040" /> </SimpleSource> <SimpleSource> <SourceFilename relativeToVRT="1">./396000e3333000n.tif</SourceFilename> <SourceBand>1</SourceBand> <SourceProperties RasterXSize="12040" RasterYSize="12040" DataType="Byte" BlockXSize="512" BlockYSize="512" /> <SrcRect xOff="0" yOff="0" xSize="12040" ySize="12040" /> <DstRect xOff="36000" yOff="12000" xSize="12040" ySize="12040" /> </SimpleSource> <SimpleSource> <SourceFilename relativeToVRT="1">./399000e3306000n.tif</SourceFilename> <SourceBand>1</SourceBand> <SourceProperties RasterXSize="12040" RasterYSize="12040" DataType="Byte" BlockXSize="512" BlockYSize="512" /> <SrcRect xOff="0" yOff="0" xSize="12040" ySize="12040" /> <DstRect xOff="48000" yOff="120000" xSize="12040" ySize="12040" /> </SimpleSource> <SimpleSource> <SourceFilename relativeToVRT="1">./399000e3321000n.tif</SourceFilename> <SourceBand>1</SourceBand> <SourceProperties RasterXSize="12040" RasterYSize="12040" DataType="Byte" BlockXSize="512" BlockYSize="512" /> <SrcRect xOff="0" yOff="0" xSize="12040" ySize="12040" /> <DstRect xOff="48000" yOff="60000" xSize="12040" ySize="12040" /> </SimpleSource> <SimpleSource> <SourceFilename relativeToVRT="1">./399000e3324000n.tif</SourceFilename> <SourceBand>1</SourceBand> <SourceProperties RasterXSize="12040" RasterYSize="12040" DataType="Byte" BlockXSize="512" BlockYSize="512" /> <SrcRect xOff="0" yOff="0" xSize="12040" ySize="12040" /> <DstRect xOff="48000" yOff="48000" xSize="12040" ySize="12040" /> </SimpleSource> <SimpleSource> <SourceFilename relativeToVRT="1">./399000e3327000n.tif</SourceFilename> <SourceBand>1</SourceBand> <SourceProperties RasterXSize="12040" RasterYSize="12040" DataType="Byte" BlockXSize="512" BlockYSize="512" /> <SrcRect xOff="0" yOff="0" xSize="12040" ySize="12040" /> <DstRect xOff="48000" yOff="36000" xSize="12040" ySize="12040" /> </SimpleSource> <SimpleSource> <SourceFilename relativeToVRT="1">./399000e3330000n.tif</SourceFilename> <SourceBand>1</SourceBand> <SourceProperties RasterXSize="12040" RasterYSize="12040" DataType="Byte" BlockXSize="512" BlockYSize="512" /> <SrcRect xOff="0" yOff="0" xSize="12040" ySize="12040" /> <DstRect xOff="48000" yOff="24000" xSize="12040" ySize="12040" /> </SimpleSource> <SimpleSource> <SourceFilename relativeToVRT="1">./402000e3300000n.tif</SourceFilename> <SourceBand>1</SourceBand> <SourceProperties RasterXSize="12040" RasterYSize="12040" DataType="Byte" BlockXSize="512" BlockYSize="512" /> <SrcRect xOff="0" yOff="0" xSize="12040" ySize="12040" /> <DstRect xOff="60000" yOff="144000" xSize="12040" ySize="12040" /> </SimpleSource> <SimpleSource> <SourceFilename relativeToVRT="1">./402000e3303000n.tif</SourceFilename> <SourceBand>1</SourceBand> <SourceProperties RasterXSize="12040" RasterYSize="12040" DataType="Byte" BlockXSize="512" BlockYSize="512" /> <SrcRect xOff="0" yOff="0" xSize="12040" ySize="12040" /> <DstRect xOff="60000" yOff="132000" xSize="12040" ySize="12040" /> </SimpleSource> <SimpleSource> <SourceFilename relativeToVRT="1">./402000e3306000n.tif</SourceFilename> <SourceBand>1</SourceBand> <SourceProperties RasterXSize="12040" RasterYSize="12040" DataType="Byte" BlockXSize="512" BlockYSize="512" /> <SrcRect xOff="0" yOff="0" xSize="12040" ySize="12040" /> <DstRect xOff="60000" yOff="120000" xSize="12040" ySize="12040" /> </SimpleSource> <SimpleSource> <SourceFilename relativeToVRT="1">./402000e3321000n.tif</SourceFilename> <SourceBand>1</SourceBand> <SourceProperties RasterXSize="12040" RasterYSize="12040" DataType="Byte" BlockXSize="512" BlockYSize="512" /> <SrcRect xOff="0" yOff="0" xSize="12040" ySize="12040" /> <DstRect xOff="60000" yOff="60000" xSize="12040" ySize="12040" /> </SimpleSource> <SimpleSource> <SourceFilename relativeToVRT="1">./402000e3324000n.tif</SourceFilename> <SourceBand>1</SourceBand> <SourceProperties RasterXSize="12040" RasterYSize="12040" DataType="Byte" BlockXSize="512" BlockYSize="512" /> <SrcRect xOff="0" yOff="0" xSize="12040" ySize="12040" /> <DstRect xOff="60000" yOff="48000" xSize="12040" ySize="12040" /> </SimpleSource> <SimpleSource> <SourceFilename relativeToVRT="1">./402000e3327000n.tif</SourceFilename> <SourceBand>1</SourceBand> <SourceProperties RasterXSize="12040" RasterYSize="12040" DataType="Byte" BlockXSize="512" BlockYSize="512" /> <SrcRect xOff="0" yOff="0" xSize="12040" ySize="12040" /> <DstRect xOff="60000" yOff="36000" xSize="12040" ySize="12040" /> </SimpleSource> <SimpleSource> <SourceFilename relativeToVRT="1">./402000e3330000n.tif</SourceFilename> <SourceBand>1</SourceBand> <SourceProperties RasterXSize="12040" RasterYSize="12040" DataType="Byte" BlockXSize="512" BlockYSize="512" /> <SrcRect xOff="0" yOff="0" xSize="12040" ySize="12040" /> <DstRect xOff="60000" yOff="24000" xSize="12040" ySize="12040" /> </SimpleSource> <SimpleSource> <SourceFilename relativeToVRT="1">./405000e3294000n.tif</SourceFilename> <SourceBand>1</SourceBand> <SourceProperties RasterXSize="12040" RasterYSize="12040" DataType="Byte" BlockXSize="512" BlockYSize="512" /> <SrcRect xOff="0" yOff="0" xSize="12040" ySize="12040" /> <DstRect xOff="72000" yOff="168000" xSize="12040" ySize="12040" /> </SimpleSource> <SimpleSource> <SourceFilename relativeToVRT="1">./405000e3297000n.tif</SourceFilename> <SourceBand>1</SourceBand> <SourceProperties RasterXSize="12040" RasterYSize="12040" DataType="Byte" BlockXSize="512" BlockYSize="512" /> <SrcRect xOff="0" yOff="0" xSize="12040" ySize="12040" /> <DstRect xOff="72000" yOff="156000" xSize="12040" ySize="12040" /> </SimpleSource> <SimpleSource> <SourceFilename relativeToVRT="1">./405000e3300000n.tif</SourceFilename> <SourceBand>1</SourceBand> <SourceProperties RasterXSize="12040" RasterYSize="12040" DataType="Byte" BlockXSize="512" BlockYSize="512" /> <SrcRect xOff="0" yOff="0" xSize="12040" ySize="12040" /> <DstRect xOff="72000" yOff="144000" xSize="12040" ySize="12040" /> </SimpleSource> <SimpleSource> <SourceFilename relativeToVRT="1">./405000e3303000n.tif</SourceFilename> <SourceBand>1</SourceBand> <SourceProperties RasterXSize="12040" RasterYSize="12040" DataType="Byte" BlockXSize="512" BlockYSize="512" /> <SrcRect xOff="0" yOff="0" xSize="12040" ySize="12040" /> <DstRect xOff="72000" yOff="132000" xSize="12040" ySize="12040" /> </SimpleSource> <SimpleSource> <SourceFilename relativeToVRT="1">./405000e3306000n.tif</SourceFilename> <SourceBand>1</SourceBand> <SourceProperties RasterXSize="12040" RasterYSize="12040" DataType="Byte" BlockXSize="512" BlockYSize="512" /> <SrcRect xOff="0" yOff="0" xSize="12040" ySize="12040" /> <DstRect xOff="72000" yOff="120000" xSize="12040" ySize="12040" /> </SimpleSource> <SimpleSource> <SourceFilename relativeToVRT="1">./405000e3309000n.tif</SourceFilename> <SourceBand>1</SourceBand> <SourceProperties RasterXSize="12040" RasterYSize="12040" DataType="Byte" BlockXSize="512" BlockYSize="512" /> <SrcRect xOff="0" yOff="0" xSize="12040" ySize="12040" /> <DstRect xOff="72000" yOff="108000" xSize="12040" ySize="12040" /> </SimpleSource> <SimpleSource> <SourceFilename relativeToVRT="1">./405000e3318000n.tif</SourceFilename> <SourceBand>1</SourceBand> <SourceProperties RasterXSize="12040" RasterYSize="12040" DataType="Byte" BlockXSize="512" BlockYSize="512" /> <SrcRect xOff="0" yOff="0" xSize="12040" ySize="12040" /> <DstRect xOff="72000" yOff="72000" xSize="12040" ySize="12040" /> </SimpleSource> <SimpleSource> <SourceFilename relativeToVRT="1">./405000e3321000n.tif</SourceFilename> <SourceBand>1</SourceBand> <SourceProperties RasterXSize="12040" RasterYSize="12040" DataType="Byte" BlockXSize="512" BlockYSize="512" /> <SrcRect xOff="0" yOff="0" xSize="12040" ySize="12040" /> <DstRect xOff="72000" yOff="60000" xSize="12040" ySize="12040" /> </SimpleSource> <SimpleSource> <SourceFilename relativeToVRT="1">./405000e3324000n.tif</SourceFilename> <SourceBand>1</SourceBand> <SourceProperties RasterXSize="12040" RasterYSize="12040" DataType="Byte" BlockXSize="512" BlockYSize="512" /> <SrcRect xOff="0" yOff="0" xSize="12040" ySize="12040" /> <DstRect xOff="72000" yOff="48000" xSize="12040" ySize="12040" /> </SimpleSource> <SimpleSource> <SourceFilename relativeToVRT="1">./405000e3327000n.tif</SourceFilename> <SourceBand>1</SourceBand> <SourceProperties RasterXSize="12040" RasterYSize="12040" DataType="Byte" BlockXSize="512" BlockYSize="512" /> <SrcRect xOff="0" yOff="0" xSize="12040" ySize="12040" /> <DstRect xOff="72000" yOff="36000" xSize="12040" ySize="12040" /> </SimpleSource> <SimpleSource> <SourceFilename relativeToVRT="1">./408000e3291000n.tif</SourceFilename> <SourceBand>1</SourceBand> <SourceProperties RasterXSize="12040" RasterYSize="12040" DataType="Byte" BlockXSize="512" BlockYSize="512" /> <SrcRect xOff="0" yOff="0" xSize="12040" ySize="12040" /> <DstRect xOff="84000" yOff="180000" xSize="12040" ySize="12040" /> </SimpleSource> <SimpleSource> <SourceFilename relativeToVRT="1">./408000e3294000n.tif</SourceFilename> <SourceBand>1</SourceBand> <SourceProperties RasterXSize="12040" RasterYSize="12040" DataType="Byte" BlockXSize="512" BlockYSize="512" /> <SrcRect xOff="0" yOff="0" xSize="12040" ySize="12040" /> <DstRect xOff="84000" yOff="168000" xSize="12040" ySize="12040" /> </SimpleSource> <SimpleSource> <SourceFilename relativeToVRT="1">./408000e3297000n.tif</SourceFilename> <SourceBand>1</SourceBand> <SourceProperties RasterXSize="12040" RasterYSize="12040" DataType="Byte" BlockXSize="512" BlockYSize="512" /> <SrcRect xOff="0" yOff="0" xSize="12040" ySize="12040" /> <DstRect xOff="84000" yOff="156000" xSize="12040" ySize="12040" /> </SimpleSource> <SimpleSource> <SourceFilename relativeToVRT="1">./408000e3300000n.tif</SourceFilename> <SourceBand>1</SourceBand> <SourceProperties RasterXSize="12040" RasterYSize="12040" DataType="Byte" BlockXSize="512" BlockYSize="512" /> <SrcRect xOff="0" yOff="0" xSize="12040" ySize="12040" /> <DstRect xOff="84000" yOff="144000" xSize="12040" ySize="12040" /> </SimpleSource> <SimpleSource> <SourceFilename relativeToVRT="1">./408000e3303000n.tif</SourceFilename> <SourceBand>1</SourceBand> <SourceProperties RasterXSize="12040" RasterYSize="12040" DataType="Byte" BlockXSize="512" BlockYSize="512" /> <SrcRect xOff="0" yOff="0" xSize="12040" ySize="12040" /> <DstRect xOff="84000" yOff="132000" xSize="12040" ySize="12040" /> </SimpleSource> <SimpleSource> <SourceFilename relativeToVRT="1">./408000e3306000n.tif</SourceFilename> <SourceBand>1</SourceBand> <SourceProperties RasterXSize="12040" RasterYSize="12040" DataType="Byte" BlockXSize="512" BlockYSize="512" /> <SrcRect xOff="0" yOff="0" xSize="12040" ySize="12040" /> <DstRect xOff="84000" yOff="120000" xSize="12040" ySize="12040" /> </SimpleSource> <SimpleSource> <SourceFilename relativeToVRT="1">./408000e3309000n.tif</SourceFilename> <SourceBand>1</SourceBand> <SourceProperties RasterXSize="12040" RasterYSize="12040" DataType="Byte" BlockXSize="512" BlockYSize="512" /> <SrcRect xOff="0" yOff="0" xSize="12040" ySize="12040" /> <DstRect xOff="84000" yOff="108000" xSize="12040" ySize="12040" /> </SimpleSource> <SimpleSource> <SourceFilename relativeToVRT="1">./408000e3315000n.tif</SourceFilename> <SourceBand>1</SourceBand> <SourceProperties RasterXSize="12040" RasterYSize="12040" DataType="Byte" BlockXSize="512" BlockYSize="512" /> <SrcRect xOff="0" yOff="0" xSize="12040" ySize="12040" /> <DstRect xOff="84000" yOff="84000" xSize="12040" ySize="12040" /> </SimpleSource> <SimpleSource> <SourceFilename relativeToVRT="1">./408000e3318000n.tif</SourceFilename> <SourceBand>1</SourceBand> <SourceProperties RasterXSize="12040" RasterYSize="12040" DataType="Byte" BlockXSize="512" BlockYSize="512" /> <SrcRect xOff="0" yOff="0" xSize="12040" ySize="12040" /> <DstRect xOff="84000" yOff="72000" xSize="12040" ySize="12040" /> </SimpleSource> <SimpleSource> <SourceFilename relativeToVRT="1">./408000e3321000n.tif</SourceFilename> <SourceBand>1</SourceBand> <SourceProperties RasterXSize="12040" RasterYSize="12040" DataType="Byte" BlockXSize="512" BlockYSize="512" /> <SrcRect xOff="0" yOff="0" xSize="12040" ySize="12040" /> <DstRect xOff="84000" yOff="60000" xSize="12040" ySize="12040" /> </SimpleSource> <SimpleSource> <SourceFilename relativeToVRT="1">./408000e3324000n.tif</SourceFilename> <SourceBand>1</SourceBand> <SourceProperties RasterXSize="12040" RasterYSize="12040" DataType="Byte" BlockXSize="512" BlockYSize="512" /> <SrcRect xOff="0" yOff="0" xSize="12040" ySize="12040" /> <DstRect xOff="84000" yOff="48000" xSize="12040" ySize="12040" /> </SimpleSource> <SimpleSource> <SourceFilename relativeToVRT="1">./411000e3285000n.tif</SourceFilename> <SourceBand>1</SourceBand> <SourceProperties RasterXSize="12040" RasterYSize="12040" DataType="Byte" BlockXSize="512" BlockYSize="512" /> <SrcRect xOff="0" yOff="0" xSize="12040" ySize="12040" /> <DstRect xOff="96000" yOff="204000" xSize="12040" ySize="12040" /> </SimpleSource> <SimpleSource> <SourceFilename relativeToVRT="1">./411000e3288000n.tif</SourceFilename> <SourceBand>1</SourceBand> <SourceProperties RasterXSize="12040" RasterYSize="12040" DataType="Byte" BlockXSize="512" BlockYSize="512" /> <SrcRect xOff="0" yOff="0" xSize="12040" ySize="12040" /> <DstRect xOff="96000" yOff="192000" xSize="12040" ySize="12040" /> </SimpleSource> <SimpleSource> <SourceFilename relativeToVRT="1">./411000e3291000n.tif</SourceFilename> <SourceBand>1</SourceBand> <SourceProperties RasterXSize="12040" RasterYSize="12040" DataType="Byte" BlockXSize="512" BlockYSize="512" /> <SrcRect xOff="0" yOff="0" xSize="12040" ySize="12040" /> <DstRect xOff="96000" yOff="180000" xSize="12040" ySize="12040" /> </SimpleSource> <SimpleSource> <SourceFilename relativeToVRT="1">./411000e3294000n.tif</SourceFilename> <SourceBand>1</SourceBand> <SourceProperties RasterXSize="12040" RasterYSize="12040" DataType="Byte" BlockXSize="512" BlockYSize="512" /> <SrcRect xOff="0" yOff="0" xSize="12040" ySize="12040" /> <DstRect xOff="96000" yOff="168000" xSize="12040" ySize="12040" /> </SimpleSource> <SimpleSource> <SourceFilename relativeToVRT="1">./411000e3297000n.tif</SourceFilename> <SourceBand>1</SourceBand> <SourceProperties RasterXSize="12040" RasterYSize="12040" DataType="Byte" BlockXSize="512" BlockYSize="512" /> <SrcRect xOff="0" yOff="0" xSize="12040" ySize="12040" /> <DstRect xOff="96000" yOff="156000" xSize="12040" ySize="12040" /> </SimpleSource> <SimpleSource> <SourceFilename relativeToVRT="1">./411000e3300000n.tif</SourceFilename> <SourceBand>1</SourceBand> <SourceProperties RasterXSize="12040" RasterYSize="12040" DataType="Byte" BlockXSize="512" BlockYSize="512" /> <SrcRect xOff="0" yOff="0" xSize="12040" ySize="12040" /> <DstRect xOff="96000" yOff="144000" xSize="12040" ySize="12040" /> </SimpleSource> <SimpleSource> <SourceFilename relativeToVRT="1">./411000e3303000n.tif</SourceFilename> <SourceBand>1</SourceBand> <SourceProperties RasterXSize="12040" RasterYSize="12040" DataType="Byte" BlockXSize="512" BlockYSize="512" /> <SrcRect xOff="0" yOff="0" xSize="12040" ySize="12040" /> <DstRect xOff="96000" yOff="132000" xSize="12040" ySize="12040" /> </SimpleSource> <SimpleSource> <SourceFilename relativeToVRT="1">./411000e3306000n.tif</SourceFilename> <SourceBand>1</SourceBand> <SourceProperties RasterXSize="12040" RasterYSize="12040" DataType="Byte" BlockXSize="512" BlockYSize="512" /> <SrcRect xOff="0" yOff="0" xSize="12040" ySize="12040" /> <DstRect xOff="96000" yOff="120000" xSize="12040" ySize="12040" /> </SimpleSource> <SimpleSource> <SourceFilename relativeToVRT="1">./411000e3309000n.tif</SourceFilename> <SourceBand>1</SourceBand> <SourceProperties RasterXSize="12040" RasterYSize="12040" DataType="Byte" BlockXSize="512" BlockYSize="512" /> <SrcRect xOff="0" yOff="0" xSize="12040" ySize="12040" /> <DstRect xOff="96000" yOff="108000" xSize="12040" ySize="12040" /> </SimpleSource> <SimpleSource> <SourceFilename relativeToVRT="1">./411000e3312000n.tif</SourceFilename> <SourceBand>1</SourceBand> <SourceProperties RasterXSize="12040" RasterYSize="12040" DataType="Byte" BlockXSize="512" BlockYSize="512" /> <SrcRect xOff="0" yOff="0" xSize="12040" ySize="12040" /> <DstRect xOff="96000" yOff="96000" xSize="12040" ySize="12040" /> </SimpleSource> <SimpleSource> <SourceFilename relativeToVRT="1">./411000e3315000n.tif</SourceFilename> <SourceBand>1</SourceBand> <SourceProperties RasterXSize="12040" RasterYSize="12040" DataType="Byte" BlockXSize="512" BlockYSize="512" /> <SrcRect xOff="0" yOff="0" xSize="12040" ySize="12040" /> <DstRect xOff="96000" yOff="84000" xSize="12040" ySize="12040" /> </SimpleSource> <SimpleSource> <SourceFilename relativeToVRT="1">./411000e3318000n.tif</SourceFilename> <SourceBand>1</SourceBand> <SourceProperties RasterXSize="12040" RasterYSize="12040" DataType="Byte" BlockXSize="512" BlockYSize="512" /> <SrcRect xOff="0" yOff="0" xSize="12040" ySize="12040" /> <DstRect xOff="96000" yOff="72000" xSize="12040" ySize="12040" /> </SimpleSource> <SimpleSource> <SourceFilename relativeToVRT="1">./411000e3321000n.tif</SourceFilename> <SourceBand>1</SourceBand> <SourceProperties RasterXSize="12040" RasterYSize="12040" DataType="Byte" BlockXSize="512" BlockYSize="512" /> <SrcRect xOff="0" yOff="0" xSize="12040" ySize="12040" /> <DstRect xOff="96000" yOff="60000" xSize="12040" ySize="12040" /> </SimpleSource> <SimpleSource> <SourceFilename relativeToVRT="1">./411000e3324000n.tif</SourceFilename> <SourceBand>1</SourceBand> <SourceProperties RasterXSize="12040" RasterYSize="12040" DataType="Byte" BlockXSize="512" BlockYSize="512" /> <SrcRect xOff="0" yOff="0" xSize="12040" ySize="12040" /> <DstRect xOff="96000" yOff="48000" xSize="12040" ySize="12040" /> </SimpleSource> <SimpleSource> <SourceFilename relativeToVRT="1">./414000e3279000n.tif</SourceFilename> <SourceBand>1</SourceBand> <SourceProperties RasterXSize="12040" RasterYSize="12040" DataType="Byte" BlockXSize="512" BlockYSize="512" /> <SrcRect xOff="0" yOff="0" xSize="12040" ySize="12040" /> <DstRect xOff="108000" yOff="228000" xSize="12040" ySize="12040" /> </SimpleSource> <SimpleSource> <SourceFilename relativeToVRT="1">./414000e3282000n.tif</SourceFilename> <SourceBand>1</SourceBand> <SourceProperties RasterXSize="12040" RasterYSize="12040" DataType="Byte" BlockXSize="512" BlockYSize="512" /> <SrcRect xOff="0" yOff="0" xSize="12040" ySize="12040" /> <DstRect xOff="108000" 