0.15000000000000
0.00000000000000
0.00000000000000
-0.15000000000000
753750.07499999995343
4574249.92499999981374
