0.15000000000000
0.00000000000000
0.00000000000000
-0.15000000000000
705000.07499999995343
4520999.92499999981374
