0.15000000000000
0.00000000000000
0.00000000000000
-0.15000000000000
700500.07499999995343
4526999.92499999981374
