0.150000
0.000000
0.000000
-0.150000
609750.075000
4733999.925000
