0.15000000000000
0.00000000000000
0.00000000000000
-0.15000000000000
606000.07499999995343
4732499.92499999981374
