0.15000000000000
0.00000000000000
0.00000000000000
-0.15000000000000
604500.07499999995343
4725749.92499999981374
