0.15000000000000
0.00000000000000
0.00000000000000
-0.15000000000000
603000.07499999995343
4709249.92499999981374
