0.15000000000000
0.00000000000000
0.00000000000000
-0.15000000000000
602250.07499999995343
4712249.92499999981374
