0.15000000000000
0.00000000000000
0.00000000000000
-0.15000000000000
600000.07499999995343
4683749.92499999981374
