0.15000000000000
0.00000000000000
0.00000000000000
-0.15000000000000
691500.07499999995343
4524749.92499999981374
