0.15000000000000
0.00000000000000
0.00000000000000
-0.15000000000000
681750.07499999995343
4513499.92499999981374
