0.15000000000000
0.00000000000000
0.00000000000000
-0.15000000000000
681000.07499999995343
4521749.92499999981374
