0.15000000000000
0.00000000000000
0.00000000000000
-0.15000000000000
668250.07499999995343
4506749.92499999981374
