0.15000000000000
0.00000000000000
0.00000000000000
-0.15000000000000
662250.07499999995343
4505999.92499999981374
