0.15000000000000
0.00000000000000
0.00000000000000
-0.15000000000000
645750.07499999995343
4511249.92499999981374
