0.15000000000000
0.00000000000000
0.00000000000000
-0.15000000000000
642000.07499999995343
4504499.92499999981374
