0.15000000000000
0.00000000000000
0.00000000000000
-0.15000000000000
638250.07499999995343
4508249.92499999981374
