0.15000000000000
0.00000000000000
0.00000000000000
-0.15000000000000
627750.07499999995343
4516499.92499999981374
